BEGIN:VCALENDAR
VERSION:2.0
PRODID:spatie/icalendar-generator
DESCRIPTION:Events from morningstarbaptist.org
X-WR-CALDESC:Events from morningstarbaptist.org
REFRESH-INTERVAL;VALUE=DURATION:PT1440M
X-PUBLISHED-TTL:PT1440M
BEGIN:VTIMEZONE
TZID:America/Chicago
BEGIN:STANDARD
DTSTART:20251102T020000Z
TZOFFSETFROM:-0500
TZOFFSETTO:-0600
END:STANDARD
BEGIN:DAYLIGHT
DTSTART:20260308T020000Z
TZOFFSETFROM:-0600
TZOFFSETTO:-0500
END:DAYLIGHT
END:VTIMEZONE
BEGIN:VTIMEZONE
TZID:UTC
BEGIN:STANDARD
DTSTART:20250724T040904Z
TZOFFSETFROM:+0000
TZOFFSETTO:+0000
END:STANDARD
END:VTIMEZONE
BEGIN:VEVENT
UID:1812-8
DTSTAMP:20260420T040904Z
SUMMARY:Pre-Need Funeral Preparation Seminar
LOCATION:
ORGANIZER;CN=Paul Toutant:MAILTO:toutantp@gmail.com
DTSTART;TZID=America/Chicago;VALUE=DATE:20260428
DTEND;TZID=America/Chicago;VALUE=DATE:20260429
X-ALT-DESC;FMTTYPE=TEXT/HTML:Pre-Need Funeral Preparation Seminar hosted by
  the MSMBC Wellness Ministry
CATEGORIES:Yellow
URL;VALUE=URI:https://morningstarbaptist.org/mc-events/pre-need-funeral-pre
 paration-seminar/
METHOD:PUBLISH
END:VEVENT
END:VCALENDAR