BEGIN:VCALENDAR
VERSION:2.0
PRODID:spatie/icalendar-generator
DESCRIPTION:Events from morningstarbaptist.org
X-WR-CALDESC:Events from morningstarbaptist.org
REFRESH-INTERVAL;VALUE=DURATION:PT1440M
X-PUBLISHED-TTL:PT1440M
BEGIN:VTIMEZONE
TZID:America/Chicago
BEGIN:STANDARD
DTSTART:20251102T020000Z
TZOFFSETFROM:-0500
TZOFFSETTO:-0600
END:STANDARD
BEGIN:DAYLIGHT
DTSTART:20260308T020000Z
TZOFFSETFROM:-0600
TZOFFSETTO:-0500
END:DAYLIGHT
END:VTIMEZONE
BEGIN:VTIMEZONE
TZID:UTC
BEGIN:STANDARD
DTSTART:20250724T041107Z
TZOFFSETFROM:+0000
TZOFFSETTO:+0000
END:STANDARD
END:VTIMEZONE
BEGIN:VEVENT
UID:610-4
DTSTAMP:20260420T041107Z
SUMMARY:Mission (Women) Choir Ministers
LOCATION:
ORGANIZER;CN=Paul Toutant:MAILTO:toutantp@gmail.com
RRULE:FREQ=MONTHLY;BYDAY=4SU;UNTIL=20360131T000000Z
DTSTART;TZID=America/Chicago:20260426T100000
DTEND;TZID=America/Chicago:20260426T120000
X-ALT-DESC;FMTTYPE=TEXT/HTML:Mission Choir The Mission Choir sings every 
 5th Sunday at the 10:00am service.   The Mission Choir rehearses at 7:30
 pm on the Tuesday before the 5th Sunday. All women ages 18 and over are w
 elcome to join.   For questions\, or additional information you may email
  or call us at (972) 647-1445 ext. 17.
CATEGORIES:General
URL;VALUE=URI:https://morningstarbaptist.org/mc-events/mission-women-choir-
 ministers/?mc_id=610
METHOD:PUBLISH
END:VEVENT
END:VCALENDAR